Workbook

Sheet Sheet1
B1: COST/BENEFIT ANALYSIS WORKSHEET
C4: Enter info below | I4: Time Regained
C6: School name | K6: Student | M6: Administrator
J7: Minutes | K7: =(Sheet1!F11-Sheet1!F14)*Sheet1!F19 -> 0 | M7: =(Sheet1!F11-Sheet1!F14)*Sheet1!F24 -> 0
J8: Hours | K8: =(K7)/60 -> 0 | M8: =(M7)/60 -> 0
J9: Days | K9: =(K8)/8 -> 0 | M9: =(M8)/8 -> 0
C11: Number of referrals for last year
C14: Number of referrals for this year
C19: Average # of minutes student is out of class due to referral
C23: Average # of minutes administrator needs to process referral
C24: Average # of minutes administrator needs to process referral

Sheet Sheet3
C1: Last Year | D1: This Year | F1: Time Regained
A2: Student | B2: Minutes | C2: =Sheet1!F11*Sheet1!F19 -> 0 | D2: =Sheet1!F14*Sheet1!F19 -> 0 | F2: =C2-D2 -> 0
A3: Student | B3: Hours | C3: =C2/60 -> 0 | D3: =D2/60 -> 0 | F3: =C3-D3 -> 0
A4: Student | B4: Days | C4: =C3/8 -> 0 | D4: =D3/8 -> 0 | F4: =C4-D4 -> 0
A5: Admin | B5: Minutes | C5: =Sheet1!F11*Sheet1!F24 -> 0 | D5: =Sheet1!F14*Sheet1!F24 -> 0 | F5: =C5-D5 -> 0
A7: Admin | B7: Hours | C7: =C5/60 -> 0 | D7: =D5/60 -> 0 | F7: =C7-D7 -> 0
A10: Admin | B10: Days | C10: =C7/8 -> 0 | D10: =D7/8 -> 0 | F10: =C10-D10 -> 0
