Workbook
Name Academics: Permlist!$J$2:$J$4
Name Ethnic: Permlist!$C$2:$C$3
Name Expectations: Permlist!$I$2:$I$3
Name Function: Permlist!$G$2:$G$7
Name Gender: Permlist!$B$2:$B$3
Name Grade: Permlist!$A$1:$A$15
Name Identification: Permlist!$F$2:$F$4
Name IEP: Permlist!$E$2:$E$3
Name Motivation: Permlist!$G$2:$G$8
Name Race: Permlist!$D$2:$D$8
Name ReplacementBehavior: OFFSET(#REF!,0,0,COUNTA(#REF!),1)
Name Rewards: Permlist!$H$2:$H$3

Sheet MainMenu
E2: Main Menu
F6: Set Up
F14: Student Data Entry
A19: =StudentInfo!B5 -> 0 | B19: =StudentInfo!B6 -> 0 | C19: =StudentInfo!B7 -> 0 | D19: =StudentInfo!B8 -> 0 | E19: =StudentInfo!B9 -> 0 | F19: =StudentInfo!B10 -> 0 | G19: =StudentInfo!B11 -> 0 | H19: =StudentInfo!B12 -> 0 | I19: =StudentInfo!B13 -> 0 | J19: =StudentInfo!B14 -> 0 | K19: =StudentInfo!B15 -> 0 | L19: =StudentInfo!B16 -> 0 | M19: =StudentInfo!B17 -> 0
A24: =StudentInfo!B18 -> 0 | B24: =StudentInfo!B19 -> 0 | C24: =StudentInfo!B20 -> 0 | D24: =StudentInfo!B21 -> 0 | E24: =StudentInfo!B22 -> 0 | F24: =StudentInfo!B23 -> 0 | G24: =StudentInfo!B24 -> 0 | H24: =StudentInfo!B25 -> 0 | I24: =StudentInfo!B26 -> 0 | J24: =StudentInfo!B27 -> 0 | K24: =StudentInfo!B28 -> 0 | L24: =StudentInfo!B29 -> 0 | M24: =StudentInfo!B30 -> 0
E30: =StudentInfo!B31 -> 0 | F30: =StudentInfo!B32 -> 0 | G30: =StudentInfo!B33 -> 0 | H30: =StudentInfo!B34 -> 0

Sheet StudentInfo
A4: # | B4: Student Name | C4: Date of Identification | D4: Method of Identification | E4: Grade | F4: Gender | G4: Ethnicity | H4: Race | I4: IEP Status | J4: # ODRs | K4: # Minors | L4: # Absences | M4: # Tardies | N4: Is Student Above/ Below Grade Level? | O4: GPA | P4: Has Student Been Taught the Expectations? | Q4: Has Student Received Recognitions? | R4: Problem Behavior | S4: Possible Function of Behavior | T4: Tier 2 Intervention 1 | U4: Tier 2 Intervention 2 | V4: Goal
A5: 1
A6: 2
A7: 3
A8: 4
A9: 5
A10: 6
A11: 7
A12: 8
A13: 9
A14: 10
A15: 11
A16: 12
... A34: 30

Sheet Permlist
A1: Grade | B1: Gender | C1: Ethnic | D1: Race | E1: IEP | F1: Identification | G1: Motivation | H1: Receiving Rewards | I1: Expectations Taught | J1: Academics
A2: Pk | B2: F | C2: Hispanic | D2: Asian | E2: Y | F2: Data Decision Rules | G2: Obtain Item/Activity | H2: Y | I2: Y | J2: Above Grade level
A3: K | B3: M | C3: Non-Hispanic | D3: Black | E3: N | F3: Nomination | G3: Obtain Peer Attention | H3: N | I3: N | J3: At Grade Level
A4: 1 | D4: Native Amer | F4: Universal Screener | G4: Obtain Adult Attention | J4: Below Grade Level
A5: 2 | D5: Pacific | G5: Avoid Task/Activity
A6: 3 | D6: White | G6: Avoid Peer Attention
A7: 4 | D7: Multi-Racial | G7: Avoid Adult Attention
A8: 5 | D8: Other
A9: 6
A10: 7
A11: 8
A12: 9
A13: 10
A14: 11
A15: 12

Sheet Student1
A2: =StudentInfo!B5 -> 0 | F2: =StudentInfo!V5 -> 0
A3: Date | B3: Note | C3: Daily Points Possible | D3: Daily Points | E3: Daily Percent | F3: Avg for Last 10 Days | G3: {=AVERAGE(N(OFFSET(E4,LARGE(IF(ISNUMBER(E4:E223),ROW(E4:E223)-ROW(E4)),ROW(1:10)),0)))} -> #NUM! | P3: Semester 1
E4: =IF(Table2[[#This Row],[Daily Points]]="",NA(),Table2[[#This Row],[Daily Points]]/Table2[[#This Row],[Daily Points Possible]]) -> #N/A
A5: =IF(A4,WORKDAY(A4,1),"") | E5: =IF(Table2[[#This Row],[Daily Points]]="",NA(),Table2[[#This Row],[Daily Points]]/Table2[[#This Row],[Daily Points Possible]]) -> #N/A
A6: =IF(A5,WORKDAY(A5,1),"") -> #VALUE! | E6: =IF(Table2[[#This Row],[Daily Points]]="",NA(),Table2[[#This Row],[Daily Points]]/Table2[[#This Row],[Daily Points Possible]]) -> #N/A
A7: =IF(A6,WORKDAY(A6,1),"") -> #VALUE! | E7: =IF(Table2[[#This Row],[Daily Points]]="",NA(),Table2[[#This Row],[Daily Points]]/Table2[[#This Row],[Daily Points Possible]]) -> #N/A
A8: =IF(A7,WORKDAY(A7,1),"") -> #VALUE! | E8: =IF(Table2[[#This Row],[Daily Points]]="",NA(),Table2[[#This Row],[Daily Points]]/Table2[[#This Row],[Daily Points Possible]]) -> #N/A | F8: week avg | G8: =AVERAGEIF(E4:E8,"<>#N/A") -> #DIV/0!
A9: =IF(A8,WORKDAY(A8,1),"") -> #VALUE! | E9: =IF(Table2[[#This Row],[Daily Points]]="",NA(),Table2[[#This Row],[Daily Points]]/Table2[[#This Row],[Daily Points Possible]]) -> #N/A
A10: =IF(A9,WORKDAY(A9,1),"") -> #VALUE! | E10: =IF(Table2[[#This Row],[Daily Points]]="",NA(),Table2[[#This Row],[Daily Points]]/Table2[[#This Row],[Daily Points Possible]]) -> #N/A
A11: =IF(A10,WORKDAY(A10,1),"") -> #VALUE! | E11: =IF(Table2[[#This Row],[Daily Points]]="",NA(),Table2[[#This Row],[Daily Points]]/Table2[[#This Row],[Daily Points Possible]]) -> #N/A
A12: =IF(A11,WORKDAY(A11,1),"") -> #VALUE! | E12: =IF(Table2[[#This Row],[Daily Points]]="",NA(),Table2[[#This Row],[Daily Points]]/Table2[[#This Row],[Daily Points Possible]]) -> #N/A
A13: =IF(A12,WORKDAY(A12,1),"") -> #VALUE! | E13: =IF(Table2[[#This Row],[Daily Points]]="",NA(),Table2[[#This Row],[Daily Points]]/Table2[[#This Row],[Daily Points Possible]]) -> #N/A | F13: week avg | G13: =AVERAGEIF(E9:E13,"<>#N/A") -> #DIV/0!
A14: =IF(A13,WORKDAY(A13,1),"") -> #VALUE! | E14: =IF(Table2[[#This Row],[Daily Points]]="",NA(),Table2[[#This Row],[Daily Points]]/Table2[[#This Row],[Daily Points Possible]]) -> #N/A
A15: =IF(A14,WORKDAY(A14,1),"") -> #VALUE! | E15: =IF(Table2[[#This Row],[Daily Points]]="",NA(),Table2[[#This Row],[Daily Points]]/Table2[[#This Row],[Daily Points Possible]]) -> #N/A
A16: =IF(A15,WORKDAY(A15,1),"") -> #VALUE! | E16: =IF(Table2[[#This Row],[Daily Points]]="",NA(),Table2[[#This Row],[Daily Points]]/Table2[[#This Row],[Daily Points Possible]]) -> #N/A
A17: =IF(A16,WORKDAY(A16,1),"") -> #VALUE! | E17: =IF(Table2[[#This Row],[Daily Points]]="",NA(),Table2[[#This Row],[Daily Points]]/Table2[[#This Row],[Daily Points Possible]]) -> #N/A | P17: Semester 2
A18: =IF(A17,WORKDAY(A17,1),"") -> #VALUE! | E18: =IF(Table2[[#This Row],[Daily Points]]="",NA(),Table2[[#This Row],[Daily Points]]/Table2[[#This Row],[Daily Points Possible]]) -> #N/A | F18: week avg | G18: =AVERAGEIF(E14:E18,"<>#N/A") -> #DIV/0!
A19: =IF(A18,WORKDAY(A18,1),"") -> #VALUE! | E19: =IF(Table2[[#This Row],[Daily Points]]="",NA(),Table2[[#This Row],[Daily Points]]/Table2[[#This Row],[Daily Points Possible]]) -> #N/A
A20: =IF(A19,WORKDAY(A19,1),"") -> #VALUE! | E20: =IF(Table2[[#This Row],[Daily Points]]="",NA(),Table2[[#This Row],[Daily Points]]/Table2[[#This Row],[Daily Points Possible]]) -> #N/A
A21: =IF(A20,WORKDAY(A20,1),"") -> #VALUE! | E21: =IF(Table2[[#This Row],[Daily Points]]="",NA(),Table2[[#This Row],[Daily Points]]/Table2[[#This Row],[Daily Points Possible]]) -> #N/A
A22: =IF(A21,WORKDAY(A21,1),"") -> #VALUE! | E22: =IF(Table2[[#This Row],[Daily Points]]="",NA(),Table2[[#This Row],[Daily Points]]/Table2[[#This Row],[Daily Points Possible]]) -> #N/A
A23: =IF(A22,WORKDAY(A22,1),"") -> #VALUE! | E23: =IF(Table2[[#This Row],[Daily Points]]="",NA(),Table2[[#This Row],[Daily Points]]/Table2[[#This Row],[Daily Points Possible]]) -> #N/A | F23: week avg | G23: =AVERAGEIF(E19:E23,"<>#N/A") -> #DIV/0!
A24: =IF(A23,WORKDAY(A23,1),"") -> #VALUE! | E24: =IF(Table2[[#This Row],[Daily Points]]="",NA(),Table2[[#This Row],[Daily Points]]/Table2[[#This Row],[Daily Points Possible]]) -> #N/A
A25: =IF(A24,WORKDAY(A24,1),"") -> #VALUE! | E25: =IF(Table2[[#This Row],[Daily Points]]="",NA(),Table2[[#This Row],[Daily Points]]/Table2[[#This Row],[Daily Points Possible]]) -> #N/A
A26: =IF(A25,WORKDAY(A25,1),"") -> #VALUE! | E26: =IF(Table2[[#This Row],[Daily Points]]="",NA(),Table2[[#This Row],[Daily Points]]/Table2[[#This Row],[Daily Points Possible]]) -> #N/A
A27: =IF(A26,WORKDAY(A26,1),"") -> #VALUE! | E27: =IF(Table2[[#This Row],[Daily Points]]="",NA(),Table2[[#This Row],[Daily Points]]/Table2[[#This Row],[Daily Points Possible]]) -> #N/A
A28: =IF(A27,WORKDAY(A27,1),"") -> #VALUE! | E28: =IF(Table2[[#This Row],[Daily Points]]="",NA(),Table2[[#This Row],[Daily Points]]/Table2[[#This Row],[Daily Points Possible]]) -> #N/A | F28: week avg | G28: =AVERAGEIF(E24:E28,"<>#N/A") -> #DIV/0!
A29: =IF(A28,WORKDAY(A28,1),"") -> #VALUE! | E29: =IF(Table2[[#This Row],[Daily Points]]="",NA(),Table2[[#This Row],[Daily Points]]/Table2[[#This Row],[Daily Points Possible]]) -> #N/A
A30: =IF(A29,WORKDAY(A29,1),"") -> #VALUE! | E30: =IF(Table2[[#This Row],[Daily Points]]="",NA(),Table2[[#This Row],[Daily Points]]/Table2[[#This Row],[Daily Points Possible]]) -> #N/A
A31: =IF(A30,WORKDAY(A30,1),"") -> #VALUE! | E31: =IF(Table2[[#This Row],[Daily Points]]="",NA(),Table2[[#This Row],[Daily Points]]/Table2[[#This Row],[Daily Points Possible]]) -> #N/A
A32: =IF(A31,WORKDAY(A31,1),"") -> #VALUE! | E32: =IF(Table2[[#This Row],[Daily Points]]="",NA(),Table2[[#This Row],[Daily Points]]/Table2[[#This Row],[Daily Points Possible]]) -> #N/A
A33: =IF(A32,WORKDAY(A32,1),"") -> #VALUE! | E33: =IF(Table2[[#This Row],[Daily Points]]="",NA(),Table2[[#This Row],[Daily Points]]/Table2[[#This Row],[Daily Points Possible]]) -> #N/A | F33: week avg | G33: =AVERAGEIF(E29:E33,"<>#N/A") -> #DIV/0!
A34: =IF(A33,WORKDAY(A33,1),"") -> #VALUE! | E34: =IF(Table2[[#This Row],[Daily Points]]="",NA(),Table2[[#This Row],[Daily Points]]/Table2[[#This Row],[Daily Points Possible]]) -> #N/A
A35: =IF(A34,WORKDAY(A34,1),"") -> #VALUE! | E35: =IF(Table2[[#This Row],[Daily Points]]="",NA(),Table2[[#This Row],[Daily Points]]/Table2[[#This Row],[Daily Points Possible]]) -> #N/A
A36: =IF(A35,WORKDAY(A35,1),"") -> #VALUE! | E36: =IF(Table2[[#This Row],[Daily Points]]="",NA(),Table2[[#This Row],[Daily Points]]/Table2[[#This Row],[Daily Points Possible]]) -> #N/A
A37: =IF(A36,WORKDAY(A36,1),"") -> #VALUE! | E37: =IF(Table2[[#This Row],[Daily Points]]="",NA(),Table2[[#This Row],[Daily Points]]/Table2[[#This Row],[Daily Points Possible]]) -> #N/A
A38: =IF(A37,WORKDAY(A37,1),"") -> #VALUE! | E38: =IF(Table2[[#This Row],[Daily Points]]="",NA(),Table2[[#This Row],[Daily Points]]/Table2[[#This Row],[Daily Points Possible]]) -> #N/A | F38: week avg | G38: =AVERAGEIF(E34:E38,"<>#N/A") -> #DIV/0!
A39: =IF(A38,WORKDAY(A38,1),"") -> #VALUE! | E39: =IF(Table2[[#This Row],[Daily Points]]="",NA(),Table2[[#This Row],[Daily Points]]/Table2[[#This Row],[Daily Points Possible]]) -> #N/A
A40: =IF(A39,WORKDAY(A39,1),"") -> #VALUE! | E40: =IF(Table2[[#This Row],[Daily Points]]="",NA(),Table2[[#This Row],[Daily Points]]/Table2[[#This Row],[Daily Points Possible]]) -> #N/A
A41: =IF(A40,WORKDAY(A40,1),"") -> #VALUE! | E41: =IF(Table2[[#This Row],[Daily Points]]="",NA(),Table2[[#This Row],[Daily Points]]/Table2[[#This Row],[Daily Points Possible]]) -> #N/A
...

Sheet Student2
A2: =StudentInfo!B6 -> 0 | F2: =StudentInfo!V6 -> 0
A3: Date | B3: Notes | C3: Daily Points Possible | D3: Daily Points | E3: Daily Percent | F3: Avg for Last 10 Days | G3: {=AVERAGE(N(OFFSET(E4,LARGE(IF(ISNUMBER(E4:E223),ROW(E4:E223)-ROW(E4)),ROW(1:10)),0)))} -> #NUM! | P3: Semester 1
E4: =IF(Table22[[#This Row],[Daily Points]]="",NA(),Table22[[#This Row],[Daily Points]]/Table22[[#This Row],[Daily Points Possible]]) -> #N/A
A5: =IF(A4,WORKDAY(A4,1),"") | E5: =IF(Table22[[#This Row],[Daily Points]]="",NA(),Table22[[#This Row],[Daily Points]]/Table22[[#This Row],[Daily Points Possible]]) -> #N/A
A6: =IF(A5,WORKDAY(A5,1),"") -> #VALUE! | E6: =IF(Table22[[#This Row],[Daily Points]]="",NA(),Table22[[#This Row],[Daily Points]]/Table22[[#This Row],[Daily Points Possible]]) -> #N/A
A7: =IF(A6,WORKDAY(A6,1),"") -> #VALUE! | E7: =IF(Table22[[#This Row],[Daily Points]]="",NA(),Table22[[#This Row],[Daily Points]]/Table22[[#This Row],[Daily Points Possible]]) -> #N/A
A8: =IF(A7,WORKDAY(A7,1),"") -> #VALUE! | E8: =IF(Table22[[#This Row],[Daily Points]]="",NA(),Table22[[#This Row],[Daily Points]]/Table22[[#This Row],[Daily Points Possible]]) -> #N/A | F8: week avg | G8: =AVERAGEIF(E4:E8,"<>#N/A") -> #DIV/0!
A9: =IF(A8,WORKDAY(A8,1),"") -> #VALUE! | E9: =IF(Table22[[#This Row],[Daily Points]]="",NA(),Table22[[#This Row],[Daily Points]]/Table22[[#This Row],[Daily Points Possible]]) -> #N/A
A10: =IF(A9,WORKDAY(A9,1),"") -> #VALUE! | E10: =IF(Table22[[#This Row],[Daily Points]]="",NA(),Table22[[#This Row],[Daily Points]]/Table22[[#This Row],[Daily Points Possible]]) -> #N/A
A11: =IF(A10,WORKDAY(A10,1),"") -> #VALUE! | E11: =IF(Table22[[#This Row],[Daily Points]]="",NA(),Table22[[#This Row],[Daily Points]]/Table22[[#This Row],[Daily Points Possible]]) -> #N/A
A12: =IF(A11,WORKDAY(A11,1),"") -> #VALUE! | E12: =IF(Table22[[#This Row],[Daily Points]]="",NA(),Table22[[#This Row],[Daily Points]]/Table22[[#This Row],[Daily Points Possible]]) -> #N/A
A13: =IF(A12,WORKDAY(A12,1),"") -> #VALUE! | E13: =IF(Table22[[#This Row],[Daily Points]]="",NA(),Table22[[#This Row],[Daily Points]]/Table22[[#This Row],[Daily Points Possible]]) -> #N/A | F13: week avg | G13: =AVERAGEIF(E9:E13,"<>#N/A") -> #DIV/0!
A14: =IF(A13,WORKDAY(A13,1),"") -> #VALUE! | E14: =IF(Table22[[#This Row],[Daily Points]]="",NA(),Table22[[#This Row],[Daily Points]]/Table22[[#This Row],[Daily Points Possible]]) -> #N/A
A15: =IF(A14,WORKDAY(A14,1),"") -> #VALUE! | E15: =IF(Table22[[#This Row],[Daily Points]]="",NA(),Table22[[#This Row],[Daily Points]]/Table22[[#This Row],[Daily Points Possible]]) -> #N/A
A16: =IF(A15,WORKDAY(A15,1),"") -> #VALUE! | E16: =IF(Table22[[#This Row],[Daily Points]]="",NA(),Table22[[#This Row],[Daily Points]]/Table22[[#This Row],[Daily Points Possible]]) -> #N/A | P16: Semester 2
A17: =IF(A16,WORKDAY(A16,1),"") -> #VALUE! | E17: =IF(Table22[[#This Row],[Daily Points]]="",NA(),Table22[[#This Row],[Daily Points]]/Table22[[#This Row],[Daily Points Possible]]) -> #N/A
A18: =IF(A17,WORKDAY(A17,1),"") -> #VALUE! | E18: =IF(Table22[[#This Row],[Daily Points]]="",NA(),Table22[[#This Row],[Daily Points]]/Table22[[#This Row],[Daily Points Possible]]) -> #N/A | F18: week avg | G18: =AVERAGEIF(E14:E18,"<>#N/A") -> #DIV/0!
A19: =IF(A18,WORKDAY(A18,1),"") -> #VALUE! | E19: =IF(Table22[[#This Row],[Daily Points]]="",NA(),Table22[[#This Row],[Daily Points]]/Table22[[#This Row],[Daily Points Possible]]) -> #N/A
A20: =IF(A19,WORKDAY(A19,1),"") -> #VALUE! | E20: =IF(Table22[[#This Row],[Daily Points]]="",NA(),Table22[[#This Row],[Daily Points]]/Table22[[#This Row],[Daily Points Possible]]) -> #N/A
A21: =IF(A20,WORKDAY(A20,1),"") -> #VALUE! | E21: =IF(Table22[[#This Row],[Daily Points]]="",NA(),Table22[[#This Row],[Daily Points]]/Table22[[#This Row],[Daily Points Possible]]) -> #N/A
A22: =IF(A21,WORKDAY(A21,1),"") -> #VALUE! | E22: =IF(Table22[[#This Row],[Daily Points]]="",NA(),Table22[[#This Row],[Daily Points]]/Table22[[#This Row],[Daily Points Possible]]) -> #N/A
A23: =IF(A22,WORKDAY(A22,1),"") -> #VALUE! | E23: =IF(Table22[[#This Row],[Daily Points]]="",NA(),Table22[[#This Row],[Daily Points]]/Table22[[#This Row],[Daily Points Possible]]) -> #N/A | F23: week avg | G23: =AVERAGEIF(E19:E23,"<>#N/A") -> #DIV/0!
A24: =IF(A23,WORKDAY(A23,1),"") -> #VALUE! | E24: =IF(Table22[[#This Row],[Daily Points]]="",NA(),Table22[[#This Row],[Daily Points]]/Table22[[#This Row],[Daily Points Possible]]) -> #N/A
A25: =IF(A24,WORKDAY(A24,1),"") -> #VALUE! | E25: =IF(Table22[[#This Row],[Daily Points]]="",NA(),Table22[[#This Row],[Daily Points]]/Table22[[#This Row],[Daily Points Possible]]) -> #N/A
A26: =IF(A25,WORKDAY(A25,1),"") -> #VALUE! | E26: =IF(Table22[[#This Row],[Daily Points]]="",NA(),Table22[[#This Row],[Daily Points]]/Table22[[#This Row],[Daily Points Possible]]) -> #N/A
A27: =IF(A26,WORKDAY(A26,1),"") -> #VALUE! | E27: =IF(Table22[[#This Row],[Daily Points]]="",NA(),Table22[[#This Row],[Daily Points]]/Table22[[#This Row],[Daily Points Possible]]) -> #N/A
A28: =IF(A27,WORKDAY(A27,1),"") -> #VALUE! | E28: =IF(Table22[[#This Row],[Daily Points]]="",NA(),Table22[[#This Row],[Daily Points]]/Table22[[#This Row],[Daily Points Possible]]) -> #N/A | F28: week avg | G28: =AVERAGEIF(E24:E28,"<>#N/A") -> #DIV/0!
A29: =IF(A28,WORKDAY(A28,1),"") -> #VALUE! | E29: =IF(Table22[[#This Row],[Daily Points]]="",NA(),Table22[[#This Row],[Daily Points]]/Table22[[#This Row],[Daily Points Possible]]) -> #N/A
A30: =IF(A29,WORKDAY(A29,1),"") -> #VALUE! | E30: =IF(Table22[[#This Row],[Daily Points]]="",NA(),Table22[[#This Row],[Daily Points]]/Table22[[#This Row],[Daily Points Possible]]) -> #N/A
A31: =IF(A30,WORKDAY(A30,1),"") -> #VALUE! | E31: =IF(Table22[[#This Row],[Daily Points]]="",NA(),Table22[[#This Row],[Daily Points]]/Table22[[#This Row],[Daily Points Possible]]) -> #N/A
A32: =IF(A31,WORKDAY(A31,1),"") -> #VALUE! | E32: =IF(Table22[[#This Row],[Daily Points]]="",NA(),Table22[[#This Row],[Daily Points]]/Table22[[#This Row],[Daily Points Possible]]) -> #N/A
A33: =IF(A32,WORKDAY(A32,1),"") -> #VALUE! | E33: =IF(Table22[[#This Row],[Daily Points]]="",NA(),Table22[[#This Row],[Daily Points]]/Table22[[#This Row],[Daily Points Possible]]) -> #N/A | F33: week avg | G33: =AVERAGEIF(E29:E33,"<>#N/A") -> #DIV/0!
A34: =IF(A33,WORKDAY(A33,1),"") -> #VALUE! | E34: =IF(Table22[[#This Row],[Daily Points]]="",NA(),Table22[[#This Row],[Daily Points]]/Table22[[#This Row],[Daily Points Possible]]) -> #N/A
A35: =IF(A34,WORKDAY(A34,1),"") -> #VALUE! | E35: =IF(Table22[[#This Row],[Daily Points]]="",NA(),Table22[[#This Row],[Daily Points]]/Table22[[#This Row],[Daily Points Possible]]) -> #N/A
A36: =IF(A35,WORKDAY(A35,1),"") -> #VALUE! | E36: =IF(Table22[[#This Row],[Daily Points]]="",NA(),Table22[[#This Row],[Daily Points]]/Table22[[#This Row],[Daily Points Possible]]) -> #N/A
A37: =IF(A36,WORKDAY(A36,1),"") -> #VALUE! | E37: =IF(Table22[[#This Row],[Daily Points]]="",NA(),Table22[[#This Row],[Daily Points]]/Table22[[#This Row],[Daily Points Possible]]) -> #N/A
A38: =IF(A37,WORKDAY(A37,1),"") -> #VALUE! | E38: =IF(Table22[[#This Row],[Daily Points]]="",NA(),Table22[[#This Row],[Daily Points]]/Table22[[#This Row],[Daily Points Possible]]) -> #N/A | F38: week avg | G38: =AVERAGEIF(E34:E38,"<>#N/A") -> #DIV/0!
A39: =IF(A38,WORKDAY(A38,1),"") -> #VALUE! | E39: =IF(Table22[[#This Row],[Daily Points]]="",NA(),Table22[[#This Row],[Daily Points]]/Table22[[#This Row],[Daily Points Possible]]) -> #N/A
A40: =IF(A39,WORKDAY(A39,1),"") -> #VALUE! | E40: =IF(Table22[[#This Row],[Daily Points]]="",NA(),Table22[[#This Row],[Daily Points]]/Table22[[#This Row],[Daily Points Possible]]) -> #N/A
A41: =IF(A40,WORKDAY(A40,1),"") -> #VALUE! | E41: =IF(Table22[[#This Row],[Daily Points]]="",NA(),Table22[[#This Row],[Daily Points]]/Table22[[#This Row],[Daily Points Possible]]) -> #N/A
...

Sheet Student3
A2: =StudentInfo!B7 -> 0 | F2: =StudentInfo!V7 -> 0
A3: Date | B3: Notes | C3: Daily Points Possible | D3: Daily Points | E3: Daily Percent | F3: Avg for Last 10 Days | G3: {=AVERAGE(N(OFFSET(E4,LARGE(IF(ISNUMBER(E4:E223),ROW(E4:E223)-ROW(E4)),ROW(1:10)),0)))} -> #NUM! | Q3: Semester 1
E4: =IF(Table225[[#This Row],[Daily Points]]="",NA(),Table225[[#This Row],[Daily Points]]/Table225[[#This Row],[Daily Points Possible]]) -> #N/A
A5: =IF(A4,WORKDAY(A4,1),"") | E5: =IF(Table225[[#This Row],[Daily Points]]="",NA(),Table225[[#This Row],[Daily Points]]/Table225[[#This Row],[Daily Points Possible]]) -> #N/A
A6: =IF(A5,WORKDAY(A5,1),"") -> #VALUE! | E6: =IF(Table225[[#This Row],[Daily Points]]="",NA(),Table225[[#This Row],[Daily Points]]/Table225[[#This Row],[Daily Points Possible]]) -> #N/A
A7: =IF(A6,WORKDAY(A6,1),"") -> #VALUE! | E7: =IF(Table225[[#This Row],[Daily Points]]="",NA(),Table225[[#This Row],[Daily Points]]/Table225[[#This Row],[Daily Points Possible]]) -> #N/A
A8: =IF(A7,WORKDAY(A7,1),"") -> #VALUE! | E8: =IF(Table225[[#This Row],[Daily Points]]="",NA(),Table225[[#This Row],[Daily Points]]/Table225[[#This Row],[Daily Points Possible]]) -> #N/A | F8: week avg | G8: =AVERAGEIF(E4:E8,"<>#N/A") -> #DIV/0!
A9: =IF(A8,WORKDAY(A8,1),"") -> #VALUE! | E9: =IF(Table225[[#This Row],[Daily Points]]="",NA(),Table225[[#This Row],[Daily Points]]/Table225[[#This Row],[Daily Points Possible]]) -> #N/A
A10: =IF(A9,WORKDAY(A9,1),"") -> #VALUE! | E10: =IF(Table225[[#This Row],[Daily Points]]="",NA(),Table225[[#This Row],[Daily Points]]/Table225[[#This Row],[Daily Points Possible]]) -> #N/A
A11: =IF(A10,WORKDAY(A10,1),"") -> #VALUE! | E11: =IF(Table225[[#This Row],[Daily Points]]="",NA(),Table225[[#This Row],[Daily Points]]/Table225[[#This Row],[Daily Points Possible]]) -> #N/A
A12: =IF(A11,WORKDAY(A11,1),"") -> #VALUE! | E12: =IF(Table225[[#This Row],[Daily Points]]="",NA(),Table225[[#This Row],[Daily Points]]/Table225[[#This Row],[Daily Points Possible]]) -> #N/A
A13: =IF(A12,WORKDAY(A12,1),"") -> #VALUE! | E13: =IF(Table225[[#This Row],[Daily Points]]="",NA(),Table225[[#This Row],[Daily Points]]/Table225[[#This Row],[Daily Points Possible]]) -> #N/A | F13: week avg | G13: =AVERAGEIF(E9:E13,"<>#N/A") -> #DIV/0!
A14: =IF(A13,WORKDAY(A13,1),"") -> #VALUE! | E14: =IF(Table225[[#This Row],[Daily Points]]="",NA(),Table225[[#This Row],[Daily Points]]/Table225[[#This Row],[Daily Points Possible]]) -> #N/A
A15: =IF(A14,WORKDAY(A14,1),"") -> #VALUE! | E15: =IF(Table225[[#This Row],[Daily Points]]="",NA(),Table225[[#This Row],[Daily Points]]/Table225[[#This Row],[Daily Points Possible]]) -> #N/A
A16: =IF(A15,WORKDAY(A15,1),"") -> #VALUE! | E16: =IF(Table225[[#This Row],[Daily Points]]="",NA(),Table225[[#This Row],[Daily Points]]/Table225[[#This Row],[Daily Points Possible]]) -> #N/A | Q16: Semester 2
A17: =IF(A16,WORKDAY(A16,1),"") -> #VALUE! | E17: =IF(Table225[[#This Row],[Daily Points]]="",NA(),Table225[[#This Row],[Daily Points]]/Table225[[#This Row],[Daily Points Possible]]) -> #N/A
A18: =IF(A17,WORKDAY(A17,1),"") -> #VALUE! | E18: =IF(Table225[[#This Row],[Daily Points]]="",NA(),Table225[[#This Row],[Daily Points]]/Table225[[#This Row],[Daily Points Possible]]) -> #N/A | F18: week avg | G18: =AVERAGEIF(E14:E18,"<>#N/A") -> #DIV/0!
A19: =IF(A18,WORKDAY(A18,1),"") -> #VALUE! | E19: =IF(Table225[[#This Row],[Daily Points]]="",NA(),Table225[[#This Row],[Daily Points]]/Table225[[#This Row],[Daily Points Possible]]) -> #N/A
A20: =IF(A19,WORKDAY(A19,1),"") -> #VALUE! | E20: =IF(Table225[[#This Row],[Daily Points]]="",NA(),Table225[[#This Row],[Daily Points]]/Table225[[#This Row],[Daily Points Possible]]) -> #N/A
A21: =IF(A20,WORKDAY(A20,1),"") -> #VALUE! | E21: =IF(Table225[[#This Row],[Daily Points]]="",NA(),Table225[[#This Row],[Daily Points]]/Table225[[#This Row],[Daily Points Possible]]) -> #N/A
A22: =IF(A21,WORKDAY(A21,1),"") -> #VALUE! | E22: =IF(Table225[[#This Row],[Daily Points]]="",NA(),Table225[[#This Row],[Daily Points]]/Table225[[#This Row],[Daily Points Possible]]) -> #N/A
A23: =IF(A22,WORKDAY(A22,1),"") -> #VALUE! | E23: =IF(Table225[[#This Row],[Daily Points]]="",NA(),Table225[[#This Row],[Daily Points]]/Table225[[#This Row],[Daily Points Possible]]) -> #N/A | F23: week avg | G23: =AVERAGEIF(E19:E23,"<>#N/A") -> #DIV/0!
A24: =IF(A23,WORKDAY(A23,1),"") -> #VALUE! | E24: =IF(Table225[[#This Row],[Daily Points]]="",NA(),Table225[[#This Row],[Daily Points]]/Table225[[#This Row],[Daily Points Possible]]) -> #N/A
A25: =IF(A24,WORKDAY(A24,1),"") -> #VALUE! | E25: =IF(Table225[[#This Row],[Daily Points]]="",NA(),Table225[[#This Row],[Daily Points]]/Table225[[#This Row],[Daily Points Possible]]) -> #N/A
A26: =IF(A25,WORKDAY(A25,1),"") -> #VALUE! | E26: =IF(Table225[[#This Row],[Daily Points]]="",NA(),Table225[[#This Row],[Daily Points]]/Table225[[#This Row],[Daily Points Possible]]) -> #N/A
A27: =IF(A26,WORKDAY(A26,1),"") -> #VALUE! | E27: =IF(Table225[[#This Row],[Daily Points]]="",NA(),Table225[[#This Row],[Daily Points]]/Table225[[#This Row],[Daily Points Possible]]) -> #N/A
A28: =IF(A27,WORKDAY(A27,1),"") -> #VALUE! | E28: =IF(Table225[[#This Row],[Daily Points]]="",NA(),Table225[[#This Row],[Daily Points]]/Table225[[#This Row],[Daily Points Possible]]) -> #N/A | F28: week avg | G28: =AVERAGEIF(E24:E28,"<>#N/A") -> #DIV/0!
A29: =IF(A28,WORKDAY(A28,1),"") -> #VALUE! | E29: =IF(Table225[[#This Row],[Daily Points]]="",NA(),Table225[[#This Row],[Daily Points]]/Table225[[#This Row],[Daily Points Possible]]) -> #N/A
A30: =IF(A29,WORKDAY(A29,1),"") -> #VALUE! | E30: =IF(Table225[[#This Row],[Daily Points]]="",NA(),Table225[[#This Row],[Daily Points]]/Table225[[#This Row],[Daily Points Possible]]) -> #N/A
A31: =IF(A30,WORKDAY(A30,1),"") -> #VALUE! | E31: =IF(Table225[[#This Row],[Daily Points]]="",NA(),Table225[[#This Row],[Daily Points]]/Table225[[#This Row],[Daily Points Possible]]) -> #N/A
A32: =IF(A31,WORKDAY(A31,1),"") -> #VALUE! | E32: =IF(Table225[[#This Row],[Daily Points]]="",NA(),Table225[[#This Row],[Daily Points]]/Table225[[#This Row],[Daily Points Possible]]) -> #N/A
A33: =IF(A32,WORKDAY(A32,1),"") -> #VALUE! | E33: =IF(Table225[[#This Row],[Daily Points]]="",NA(),Table225[[#This Row],[Daily Points]]/Table225[[#This Row],[Daily Points Possible]]) -> #N/A | F33: week avg | G33: =AVERAGEIF(E29:E33,"<>#N/A") -> #DIV/0!
A34: =IF(A33,WORKDAY(A33,1),"") -> #VALUE! | E34: =IF(Table225[[#This Row],[Daily Points]]="",NA(),Table225[[#This Row],[Daily Points]]/Table225[[#This Row],[Daily Points Possible]]) -> #N/A
A35: =IF(A34,WORKDAY(A34,1),"") -> #VALUE! | E35: =IF(Table225[[#This Row],[Daily Points]]="",NA(),Table225[[#This Row],[Daily Points]]/Table225[[#This Row],[Daily Points Possible]]) -> #N/A
A36: =IF(A35,WORKDAY(A35,1),"") -> #VALUE! | E36: =IF(Table225[[#This Row],[Daily Points]]="",NA(),Table225[[#This Row],[Daily Points]]/Table225[[#This Row],[Daily Points Possible]]) -> #N/A
A37: =IF(A36,WORKDAY(A36,1),"") -> #VALUE! | E37: =IF(Table225[[#This Row],[Daily Points]]="",NA(),Table225[[#This Row],[Daily Points]]/Table225[[#This Row],[Daily Points Possible]]) -> #N/A
A38: =IF(A37,WORKDAY(A37,1),"") -> #VALUE! | E38: =IF(Table225[[#This Row],[Daily Points]]="",NA(),Table225[[#This Row],[Daily Points]]/Table225[[#This Row],[Daily Points Possible]]) -> #N/A | F38: week avg | G38: =AVERAGEIF(E34:E38,"<>#N/A") -> #DIV/0!
A39: =IF(A38,WORKDAY(A38,1),"") -> #VALUE! | E39: =IF(Table225[[#This Row],[Daily Points]]="",NA(),Table225[[#This Row],[Daily Points]]/Table225[[#This Row],[Daily Points Possible]]) -> #N/A
A40: =IF(A39,WORKDAY(A39,1),"") -> #VALUE! | E40: =IF(Table225[[#This Row],[Daily Points]]="",NA(),Table225[[#This Row],[Daily Points]]/Table225[[#This Row],[Daily Points Possible]]) -> #N/A
A41: =IF(A40,WORKDAY(A40,1),"") -> #VALUE! | E41: =IF(Table225[[#This Row],[Daily Points]]="",NA(),Table225[[#This Row],[Daily Points]]/Table225[[#This Row],[Daily Points Possible]]) -> #N/A
...

Sheet Student4
A2: =StudentInfo!B8 -> 0 | F2: =StudentInfo!V8 -> 0
A3: Date | B3: Notes | C3: Daily Points Possible | D3: Daily Points | E3: Daily Percent | F3: Avg for Last 10 Days | G3: {=AVERAGE(N(OFFSET(E4,LARGE(IF(ISNUMBER(E4:E223),ROW(E4:E223)-ROW(E4)),ROW(1:10)),0)))} -> #NUM! | P3: Semester 1
E4: =IF(Table226[[#This Row],[Daily Points]]="",NA(),Table226[[#This Row],[Daily Points]]/Table226[[#This Row],[Daily Points Possible]]) -> #N/A
A5: =IF(A4,WORKDAY(A4,1),"") | E5: =IF(Table226[[#This Row],[Daily Points]]="",NA(),Table226[[#This Row],[Daily Points]]/Table226[[#This Row],[Daily Points Possible]]) -> #N/A
A6: =IF(A5,WORKDAY(A5,1),"") -> #VALUE! | E6: =IF(Table226[[#This Row],[Daily Points]]="",NA(),Table226[[#This Row],[Daily Points]]/Table226[[#This Row],[Daily Points Possible]]) -> #N/A
A7: =IF(A6,WORKDAY(A6,1),"") -> #VALUE! | E7: =IF(Table226[[#This Row],[Daily Points]]="",NA(),Table226[[#This Row],[Daily Points]]/Table226[[#This Row],[Daily Points Possible]]) -> #N/A
A8: =IF(A7,WORKDAY(A7,1),"") -> #VALUE! | E8: =IF(Table226[[#This Row],[Daily Points]]="",NA(),Table226[[#This Row],[Daily Points]]/Table226[[#This Row],[Daily Points Possible]]) -> #N/A | F8: week avg | G8: =AVERAGEIF(E4:E8,"<>#N/A") -> #DIV/0!
A9: =IF(A8,WORKDAY(A8,1),"") -> #VALUE! | E9: =IF(Table226[[#This Row],[Daily Points]]="",NA(),Table226[[#This Row],[Daily Points]]/Table226[[#This Row],[Daily Points Possible]]) -> #N/A
A10: =IF(A9,WORKDAY(A9,1),"") -> #VALUE! | E10: =IF(Table226[[#This Row],[Daily Points]]="",NA(),Table226[[#This Row],[Daily Points]]/Table226[[#This Row],[Daily Points Possible]]) -> #N/A
A11: =IF(A10,WORKDAY(A10,1),"") -> #VALUE! | E11: =IF(Table226[[#This Row],[Daily Points]]="",NA(),Table226[[#This Row],[Daily Points]]/Table226[[#This Row],[Daily Points Possible]]) -> #N/A
A12: =IF(A11,WORKDAY(A11,1),"") -> #VALUE! | E12: =IF(Table226[[#This Row],[Daily Points]]="",NA(),Table226[[#This Row],[Daily Points]]/Table226[[#This Row],[Daily Points Possible]]) -> #N/A
A13: =IF(A12,WORKDAY(A12,1),"") -> #VALUE! | E13: =IF(Table226[[#This Row],[Daily Points]]="",NA(),Table226[[#This Row],[Daily Points]]/Table226[[#This Row],[Daily Points Possible]]) -> #N/A | F13: week avg | G13: =AVERAGEIF(E9:E13,"<>#N/A") -> #DIV/0!
A14: =IF(A13,WORKDAY(A13,1),"") -> #VALUE! | E14: =IF(Table226[[#This Row],[Daily Points]]="",NA(),Table226[[#This Row],[Daily Points]]/Table226[[#This Row],[Daily Points Possible]]) -> #N/A
A15: =IF(A14,WORKDAY(A14,1),"") -> #VALUE! | E15: =IF(Table226[[#This Row],[Daily Points]]="",NA(),Table226[[#This Row],[Daily Points]]/Table226[[#This Row],[Daily Points Possible]]) -> #N/A
A16: =IF(A15,WORKDAY(A15,1),"") -> #VALUE! | E16: =IF(Table226[[#This Row],[Daily Points]]="",NA(),Table226[[#This Row],[Daily Points]]/Table226[[#This Row],[Daily Points Possible]]) -> #N/A
A17: =IF(A16,WORKDAY(A16,1),"") -> #VALUE! | E17: =IF(Table226[[#This Row],[Daily Points]]="",NA(),Table226[[#This Row],[Daily Points]]/Table226[[#This Row],[Daily Points Possible]]) -> #N/A | P17: Semester 2
A18: =IF(A17,WORKDAY(A17,1),"") -> #VALUE! | E18: =IF(Table226[[#This Row],[Daily Points]]="",NA(),Table226[[#This Row],[Daily Points]]/Table226[[#This Row],[Daily Points Possible]]) -> #N/A | F18: week avg | G18: =AVERAGEIF(E14:E18,"<>#N/A") -> #DIV/0!
A19: =IF(A18,WORKDAY(A18,1),"") -> #VALUE! | E19: =IF(Table226[[#This Row],[Daily Points]]="",NA(),Table226[[#This Row],[Daily Points]]/Table226[[#This Row],[Daily Points Possible]]) -> #N/A
A20: =IF(A19,WORKDAY(A19,1),"") -> #VALUE! | E20: =IF(Table226[[#This Row],[Daily Points]]="",NA(),Table226[[#This Row],[Daily Points]]/Table226[[#This Row],[Daily Points Possible]]) -> #N/A
A21: =IF(A20,WORKDAY(A20,1),"") -> #VALUE! | E21: =IF(Table226[[#This Row],[Daily Points]]="",NA(),Table226[[#This Row],[Daily Points]]/Table226[[#This Row],[Daily Points Possible]]) -> #N/A
A22: =IF(A21,WORKDAY(A21,1),"") -> #VALUE! | E22: =IF(Table226[[#This Row],[Daily Points]]="",NA(),Table226[[#This Row],[Daily Points]]/Table226[[#This Row],[Daily Points Possible]]) -> #N/A
A23: =IF(A22,WORKDAY(A22,1),"") -> #VALUE! | E23: =IF(Table226[[#This Row],[Daily Points]]="",NA(),Table226[[#This Row],[Daily Points]]/Table226[[#This Row],[Daily Points Possible]]) -> #N/A | F23: week avg | G23: =AVERAGEIF(E19:E23,"<>#N/A") -> #DIV/0!
A24: =IF(A23,WORKDAY(A23,1),"") -> #VALUE! | E24: =IF(Table226[[#This Row],[Daily Points]]="",NA(),Table226[[#This Row],[Daily Points]]/Table226[[#This Row],[Daily Points Possible]]) -> #N/A
A25: =IF(A24,WORKDAY(A24,1),"") -> #VALUE! | E25: =IF(Table226[[#This Row],[Daily Points]]="",NA(),Table226[[#This Row],[Daily Points]]/Table226[[#This Row],[Daily Points Possible]]) -> #N/A
A26: =IF(A25,WORKDAY(A25,1),"") -> #VALUE! | E26: =IF(Table226[[#This Row],[Daily Points]]="",NA(),Table226[[#This Row],[Daily Points]]/Table226[[#This Row],[Daily Points Possible]]) -> #N/A
A27: =IF(A26,WORKDAY(A26,1),"") -> #VALUE! | E27: =IF(Table226[[#This Row],[Daily Points]]="",NA(),Table226[[#This Row],[Daily Points]]/Table226[[#This Row],[Daily Points Possible]]) -> #N/A
A28: =IF(A27,WORKDAY(A27,1),"") -> #VALUE! | E28: =IF(Table226[[#This Row],[Daily Points]]="",NA(),Table226[[#This Row],[Daily Points]]/Table226[[#This Row],[Daily Points Possible]]) -> #N/A | F28: week avg | G28: =AVERAGEIF(E24:E28,"<>#N/A") -> #DIV/0!
A29: =IF(A28,WORKDAY(A28,1),"") -> #VALUE! | E29: =IF(Table226[[#This Row],[Daily Points]]="",NA(),Table226[[#This Row],[Daily Points]]/Table226[[#This Row],[Daily Points Possible]]) -> #N/A
A30: =IF(A29,WORKDAY(A29,1),"") -> #VALUE! | E30: =IF(Table226[[#This Row],[Daily Points]]="",NA(),Table226[[#This Row],[Daily Points]]/Table226[[#This Row],[Daily Points Possible]]) -> #N/A
A31: =IF(A30,WORKDAY(A30,1),"") -> #VALUE! | E31: =IF(Table226[[#This Row],[Daily Points]]="",NA(),Table226[[#This Row],[Daily Points]]/Table226[[#This Row],[Daily Points Possible]]) -> #N/A
A32: =IF(A31,WORKDAY(A31,1),"") -> #VALUE! | E32: =IF(Table226[[#This Row],[Daily Points]]="",NA(),Table226[[#This Row],[Daily Points]]/Table226[[#This Row],[Daily Points Possible]]) -> #N/A
A33: =IF(A32,WORKDAY(A32,1),"") -> #VALUE! | E33: =IF(Table226[[#This Row],[Daily Points]]="",NA(),Table226[[#This Row],[Daily Points]]/Table226[[#This Row],[Daily Points Possible]]) -> #N/A | F33: week avg | G33: =AVERAGEIF(E29:E33,"<>#N/A") -> #DIV/0!
A34: =IF(A33,WORKDAY(A33,1),"") -> #VALUE! | E34: =IF(Table226[[#This Row],[Daily Points]]="",NA(),Table226[[#This Row],[Daily Points]]/Table226[[#This Row],[Daily Points Possible]]) -> #N/A
A35: =IF(A34,WORKDAY(A34,1),"") -> #VALUE! | E35: =IF(Table226[[#This Row],[Daily Points]]="",NA(),Table226[[#This Row],[Daily Points]]/Table226[[#This Row],[Daily Points Possible]]) -> #N/A
A36: =IF(A35,WORKDAY(A35,1),"") -> #VALUE! | E36: =IF(Table226[[#This Row],[Daily Points]]="",NA(),Table226[[#This Row],[Daily Points]]/Table226[[#This Row],[Daily Points Possible]]) -> #N/A
A37: =IF(A36,WORKDAY(A36,1),"") -> #VALUE! | E37: =IF(Table226[[#This Row],[Daily Points]]="",NA(),Table226[[#This Row],[Daily Points]]/Table226[[#This Row],[Daily Points Possible]]) -> #N/A
A38: =IF(A37,WORKDAY(A37,1),"") -> #VALUE! | E38: =IF(Table226[[#This Row],[Daily Points]]="",NA(),Table226[[#This Row],[Daily Points]]/Table226[[#This Row],[Daily Points Possible]]) -> #N/A | F38: week avg | G38: =AVERAGEIF(E34:E38,"<>#N/A") -> #DIV/0!
A39: =IF(A38,WORKDAY(A38,1),"") -> #VALUE! | E39: =IF(Table226[[#This Row],[Daily Points]]="",NA(),Table226[[#This Row],[Daily Points]]/Table226[[#This Row],[Daily Points Possible]]) -> #N/A
A40: =IF(A39,WORKDAY(A39,1),"") -> #VALUE! | E40: =IF(Table226[[#This Row],[Daily Points]]="",NA(),Table226[[#This Row],[Daily Points]]/Table226[[#This Row],[Daily Points Possible]]) -> #N/A
A41: =IF(A40,WORKDAY(A40,1),"") -> #VALUE! | E41: =IF(Table226[[#This Row],[Daily Points]]="",NA(),Table226[[#This Row],[Daily Points]]/Table226[[#This Row],[Daily Points Possible]]) -> #N/A
...

Sheet Student5
A2: =StudentInfo!B9 -> 0 | F2: =StudentInfo!V9 -> 0
A3: Date | B3: Notes | C3: Daily Points Possible | D3: Daily Points | E3: Daily Percent | F3: Avg for Last 10 Days | G3: {=AVERAGE(N(OFFSET(E4,LARGE(IF(ISNUMBER(E4:E223),ROW(E4:E223)-ROW(E4)),ROW(1:10)),0)))} -> #NUM! | P3: Semester 1
E4: =IF(Table227[[#This Row],[Daily Points]]="",NA(),Table227[[#This Row],[Daily Points]]/Table227[[#This Row],[Daily Points Possible]]) -> #N/A
A5: =IF(A4,WORKDAY(A4,1),"") | E5: =IF(Table227[[#This Row],[Daily Points]]="",NA(),Table227[[#This Row],[Daily Points]]/Table227[[#This Row],[Daily Points Possible]]) -> #N/A
A6: =IF(A5,WORKDAY(A5,1),"") -> #VALUE! | E6: =IF(Table227[[#This Row],[Daily Points]]="",NA(),Table227[[#This Row],[Daily Points]]/Table227[[#This Row],[Daily Points Possible]]) -> #N/A
A7: =IF(A6,WORKDAY(A6,1),"") -> #VALUE! | E7: =IF(Table227[[#This Row],[Daily Points]]="",NA(),Table227[[#This Row],[Daily Points]]/Table227[[#This Row],[Daily Points Possible]]) -> #N/A
A8: =IF(A7,WORKDAY(A7,1),"") -> #VALUE! | E8: =IF(Table227[[#This Row],[Daily Points]]="",NA(),Table227[[#This Row],[Daily Points]]/Table227[[#This Row],[Daily Points Possible]]) -> #N/A | F8: week avg | G8: =AVERAGEIF(E4:E8,"<>#N/A") -> #DIV/0!
A9: =IF(A8,WORKDAY(A8,1),"") -> #VALUE! | E9: =IF(Table227[[#This Row],[Daily Points]]="",NA(),Table227[[#This Row],[Daily Points]]/Table227[[#This Row],[Daily Points Possible]]) -> #N/A
A10: =IF(A9,WORKDAY(A9,1),"") -> #VALUE! | E10: =IF(Table227[[#This Row],[Daily Points]]="",NA(),Table227[[#This Row],[Daily Points]]/Table227[[#This Row],[Daily Points Possible]]) -> #N/A
A11: =IF(A10,WORKDAY(A10,1),"") -> #VALUE! | E11: =IF(Table227[[#This Row],[Daily Points]]="",NA(),Table227[[#This Row],[Daily Points]]/Table227[[#This Row],[Daily Points Possible]]) -> #N/A
A12: =IF(A11,WORKDAY(A11,1),"") -> #VALUE! | E12: =IF(Table227[[#This Row],[Daily Points]]="",NA(),Table227[[#This Row],[Daily Points]]/Table227[[#This Row],[Daily Points Possible]]) -> #N/A
A13: =IF(A12,WORKDAY(A12,1),"") -> #VALUE! | E13: =IF(Table227[[#This Row],[Daily Points]]="",NA(),Table227[[#This Row],[Daily Points]]/Table227[[#This Row],[Daily Points Possible]]) -> #N/A | F13: week avg | G13: =AVERAGEIF(E9:E13,"<>#N/A") -> #DIV/0!
A14: =IF(A13,WORKDAY(A13,1),"") -> #VALUE! | E14: =IF(Table227[[#This Row],[Daily Points]]="",NA(),Table227[[#This Row],[Daily Points]]/Table227[[#This Row],[Daily Points Possible]]) -> #N/A
A15: =IF(A14,WORKDAY(A14,1),"") -> #VALUE! | E15: =IF(Table227[[#This Row],[Daily Points]]="",NA(),Table227[[#This Row],[Daily Points]]/Table227[[#This Row],[Daily Points Possible]]) -> #N/A
A16: =IF(A15,WORKDAY(A15,1),"") -> #VALUE! | E16: =IF(Table227[[#This Row],[Daily Points]]="",NA(),Table227[[#This Row],[Daily Points]]/Table227[[#This Row],[Daily Points Possible]]) -> #N/A
A17: =IF(A16,WORKDAY(A16,1),"") -> #VALUE! | E17: =IF(Table227[[#This Row],[Daily Points]]="",NA(),Table227[[#This Row],[Daily Points]]/Table227[[#This Row],[Daily Points Possible]]) -> #N/A | P17: Semester 2
A18: =IF(A17,WORKDAY(A17,1),"") -> #VALUE! | E18: =IF(Table227[[#This Row],[Daily Points]]="",NA(),Table227[[#This Row],[Daily Points]]/Table227[[#This Row],[Daily Points Possible]]) -> #N/A | F18: week avg | G18: =AVERAGEIF(E14:E18,"<>#N/A") -> #DIV/0!
A19: =IF(A18,WORKDAY(A18,1),"") -> #VALUE! | E19: =IF(Table227[[#This Row],[Daily Points]]="",NA(),Table227[[#This Row],[Daily Points]]/Table227[[#This Row],[Daily Points Possible]]) -> #N/A
A20: =IF(A19,WORKDAY(A19,1),"") -> #VALUE! | E20: =IF(Table227[[#This Row],[Daily Points]]="",NA(),Table227[[#This Row],[Daily Points]]/Table227[[#This Row],[Daily Points Possible]]) -> #N/A
A21: =IF(A20,WORKDAY(A20,1),"") -> #VALUE! | E21: =IF(Table227[[#This Row],[Daily Points]]="",NA(),Table227[[#This Row],[Daily Points]]/Table227[[#This Row],[Daily Points Possible]]) -> #N/A
A22: =IF(A21,WORKDAY(A21,1),"") -> #VALUE! | E22: =IF(Table227[[#This Row],[Daily Points]]="",NA(),Table227[[#This Row],[Daily Points]]/Table227[[#This Row],[Daily Points Possible]]) -> #N/A
A23: =IF(A22,WORKDAY(A22,1),"") -> #VALUE! | E23: =IF(Table227[[#This Row],[Daily Points]]="",NA(),Table227[[#This Row],[Daily Points]]/Table227[[#This Row],[Daily Points Possible]]) -> #N/A | F23: week avg | G23: =AVERAGEIF(E19:E23,"<>#N/A") -> #DIV/0!
A24: =IF(A23,WORKDAY(A23,1),"") -> #VALUE! | E24: =IF(Table227[[#This Row],[Daily Points]]="",NA(),Table227[[#This Row],[Daily Points]]/Table227[[#This Row],[Daily Points Possible]]) -> #N/A
A25: =IF(A24,WORKDAY(A24,1),"") -> #VALUE! | E25: =IF(Table227[[#This Row],[Daily Points]]="",NA(),Table227[[#This Row],[Daily Points]]/Table227[[#This Row],[Daily Points Possible]]) -> #N/A
A26: =IF(A25,WORKDAY(A25,1),"") -> #VALUE! | E26: =IF(Table227[[#This Row],[Daily Points]]="",NA(),Table227[[#This Row],[Daily Points]]/Table227[[#This Row],[Daily Points Possible]]) -> #N/A
A27: =IF(A26,WORKDAY(A26,1),"") -> #VALUE! | E27: =IF(Table227[[#This Row],[Daily Points]]="",NA(),Table227[[#This Row],[Daily Points]]/Table227[[#This Row],[Daily Points Possible]]) -> #N/A
A28: =IF(A27,WORKDAY(A27,1),"") -> #VALUE! | E28: =IF(Table227[[#This Row],[Daily Points]]="",NA(),Table227[[#This Row],[Daily Points]]/Table227[[#This Row],[Daily Points Possible]]) -> #N/A | F28: week avg | G28: =AVERAGEIF(E24:E28,"<>#N/A") -> #DIV/0!
A29: =IF(A28,WORKDAY(A28,1),"") -> #VALUE! | E29: =IF(Table227[[#This Row],[Daily Points]]="",NA(),Table227[[#This Row],[Daily Points]]/Table227[[#This Row],[Daily Points Possible]]) -> #N/A
A30: =IF(A29,WORKDAY(A29,1),"") -> #VALUE! | E30: =IF(Table227[[#This Row],[Daily Points]]="",NA(),Table227[[#This Row],[Daily Points]]/Table227[[#This Row],[Daily Points Possible]]) -> #N/A
A31: =IF(A30,WORKDAY(A30,1),"") -> #VALUE! | E31: =IF(Table227[[#This Row],[Daily Points]]="",NA(),Table227[[#This Row],[Daily Points]]/Table227[[#This Row],[Daily Points Possible]]) -> #N/A
A32: =IF(A31,WORKDAY(A31,1),"") -> #VALUE! | E32: =IF(Table227[[#This Row],[Daily Points]]="",NA(),Table227[[#This Row],[Daily Points]]/Table227[[#This Row],[Daily Points Possible]]) -> #N/A
A33: =IF(A32,WORKDAY(A32,1),"") -> #VALUE! | E33: =IF(Table227[[#This Row],[Daily Points]]="",NA(),Table227[[#This Row],[Daily Points]]/Table227[[#This Row],[Daily Points Possible]]) -> #N/A | F33: week avg | G33: =AVERAGEIF(E29:E33,"<>#N/A") -> #DIV/0!
A34: =IF(A33,WORKDAY(A33,1),"") -> #VALUE! | E34: =IF(Table227[[#This Row],[Daily Points]]="",NA(),Table227[[#This Row],[Daily Points]]/Table227[[#This Row],[Daily Points Possible]]) -> #N/A
A35: =IF(A34,WORKDAY(A34,1),"") -> #VALUE! | E35: =IF(Table227[[#This Row],[Daily Points]]="",NA(),Table227[[#This Row],[Daily Points]]/Table227[[#This Row],[Daily Points Possible]]) -> #N/A
A36: =IF(A35,WORKDAY(A35,1),"") -> #VALUE! | E36: =IF(Table227[[#This Row],[Daily Points]]="",NA(),Table227[[#This Row],[Daily Points]]/Table227[[#This Row],[Daily Points Possible]]) -> #N/A
A37: =IF(A36,WORKDAY(A36,1),"") -> #VALUE! | E37: =IF(Table227[[#This Row],[Daily Points]]="",NA(),Table227[[#This Row],[Daily Points]]/Table227[[#This Row],[Daily Points Possible]]) -> #N/A
A38: =IF(A37,WORKDAY(A37,1),"") -> #VALUE! | E38: =IF(Table227[[#This Row],[Daily Points]]="",NA(),Table227[[#This Row],[Daily Points]]/Table227[[#This Row],[Daily Points Possible]]) -> #N/A | F38: week avg | G38: =AVERAGEIF(E34:E38,"<>#N/A") -> #DIV/0!
A39: =IF(A38,WORKDAY(A38,1),"") -> #VALUE! | E39: =IF(Table227[[#This Row],[Daily Points]]="",NA(),Table227[[#This Row],[Daily Points]]/Table227[[#This Row],[Daily Points Possible]]) -> #N/A
A40: =IF(A39,WORKDAY(A39,1),"") -> #VALUE! | E40: =IF(Table227[[#This Row],[Daily Points]]="",NA(),Table227[[#This Row],[Daily Points]]/Table227[[#This Row],[Daily Points Possible]]) -> #N/A
A41: =IF(A40,WORKDAY(A40,1),"") -> #VALUE! | E41: =IF(Table227[[#This Row],[Daily Points]]="",NA(),Table227[[#This Row],[Daily Points]]/Table227[[#This Row],[Daily Points Possible]]) -> #N/A
...

Sheet Student6
A2: =StudentInfo!B10 -> 0 | F2: =StudentInfo!V10 -> 0
A3: Date | B3: Notes | C3: Daily Points Possible | D3: Daily Points | E3: Daily Percent | F3: Avg for Last 10 Days | G3: {=AVERAGE(N(OFFSET(E4,LARGE(IF(ISNUMBER(E4:E223),ROW(E4:E223)-ROW(E4)),ROW(1:10)),0)))} -> #NUM!
E4: =IF(Table228[[#This Row],[Daily Points]]="",NA(),Table228[[#This Row],[Daily Points]]/Table228[[#This Row],[Daily Points Possible]]) -> #N/A | P4: Semester 1
A5: =IF(A4,WORKDAY(A4,1),"") | E5: =IF(Table228[[#This Row],[Daily Points]]="",NA(),Table228[[#This Row],[Daily Points]]/Table228[[#This Row],[Daily Points Possible]]) -> #N/A
A6: =IF(A5,WORKDAY(A5,1),"") -> #VALUE! | E6: =IF(Table228[[#This Row],[Daily Points]]="",NA(),Table228[[#This Row],[Daily Points]]/Table228[[#This Row],[Daily Points Possible]]) -> #N/A
A7: =IF(A6,WORKDAY(A6,1),"") -> #VALUE! | E7: =IF(Table228[[#This Row],[Daily Points]]="",NA(),Table228[[#This Row],[Daily Points]]/Table228[[#This Row],[Daily Points Possible]]) -> #N/A
A8: =IF(A7,WORKDAY(A7,1),"") -> #VALUE! | E8: =IF(Table228[[#This Row],[Daily Points]]="",NA(),Table228[[#This Row],[Daily Points]]/Table228[[#This Row],[Daily Points Possible]]) -> #N/A | F8: week avg | G8: =AVERAGEIF(E4:E8,"<>#N/A") -> #DIV/0!
A9: =IF(A8,WORKDAY(A8,1),"") -> #VALUE! | E9: =IF(Table228[[#This Row],[Daily Points]]="",NA(),Table228[[#This Row],[Daily Points]]/Table228[[#This Row],[Daily Points Possible]]) -> #N/A
A10: =IF(A9,WORKDAY(A9,1),"") -> #VALUE! | E10: =IF(Table228[[#This Row],[Daily Points]]="",NA(),Table228[[#This Row],[Daily Points]]/Table228[[#This Row],[Daily Points Possible]]) -> #N/A
A11: =IF(A10,WORKDAY(A10,1),"") -> #VALUE! | E11: =IF(Table228[[#This Row],[Daily Points]]="",NA(),Table228[[#This Row],[Daily Points]]/Table228[[#This Row],[Daily Points Possible]]) -> #N/A
A12: =IF(A11,WORKDAY(A11,1),"") -> #VALUE! | E12: =IF(Table228[[#This Row],[Daily Points]]="",NA(),Table228[[#This Row],[Daily Points]]/Table228[[#This Row],[Daily Points Possible]]) -> #N/A
A13: =IF(A12,WORKDAY(A12,1),"") -> #VALUE! | E13: =IF(Table228[[#This Row],[Daily Points]]="",NA(),Table228[[#This Row],[Daily Points]]/Table228[[#This Row],[Daily Points Possible]]) -> #N/A | F13: week avg | G13: =AVERAGEIF(E9:E13,"<>#N/A") -> #DIV/0!
A14: =IF(A13,WORKDAY(A13,1),"") -> #VALUE! | E14: =IF(Table228[[#This Row],[Daily Points]]="",NA(),Table228[[#This Row],[Daily Points]]/Table228[[#This Row],[Daily Points Possible]]) -> #N/A
A15: =IF(A14,WORKDAY(A14,1),"") -> #VALUE! | E15: =IF(Table228[[#This Row],[Daily Points]]="",NA(),Table228[[#This Row],[Daily Points]]/Table228[[#This Row],[Daily Points Possible]]) -> #N/A
A16: =IF(A15,WORKDAY(A15,1),"") -> #VALUE! | E16: =IF(Table228[[#This Row],[Daily Points]]="",NA(),Table228[[#This Row],[Daily Points]]/Table228[[#This Row],[Daily Points Possible]]) -> #N/A
A17: =IF(A16,WORKDAY(A16,1),"") -> #VALUE! | E17: =IF(Table228[[#This Row],[Daily Points]]="",NA(),Table228[[#This Row],[Daily Points]]/Table228[[#This Row],[Daily Points Possible]]) -> #N/A
A18: =IF(A17,WORKDAY(A17,1),"") -> #VALUE! | E18: =IF(Table228[[#This Row],[Daily Points]]="",NA(),Table228[[#This Row],[Daily Points]]/Table228[[#This Row],[Daily Points Possible]]) -> #N/A | F18: week avg | G18: =AVERAGEIF(E14:E18,"<>#N/A") -> #DIV/0! | P18: Semester 2
A19: =IF(A18,WORKDAY(A18,1),"") -> #VALUE! | E19: =IF(Table228[[#This Row],[Daily Points]]="",NA(),Table228[[#This Row],[Daily Points]]/Table228[[#This Row],[Daily Points Possible]]) -> #N/A
A20: =IF(A19,WORKDAY(A19,1),"") -> #VALUE! | E20: =IF(Table228[[#This Row],[Daily Points]]="",NA(),Table228[[#This Row],[Daily Points]]/Table228[[#This Row],[Daily Points Possible]]) -> #N/A
A21: =IF(A20,WORKDAY(A20,1),"") -> #VALUE! | E21: =IF(Table228[[#This Row],[Daily Points]]="",NA(),Table228[[#This Row],[Daily Points]]/Table228[[#This Row],[Daily Points Possible]]) -> #N/A
A22: =IF(A21,WORKDAY(A21,1),"") -> #VALUE! | E22: =IF(Table228[[#This Row],[Daily Points]]="",NA(),Table228[[#This Row],[Daily Points]]/Table228[[#This Row],[Daily Points Possible]]) -> #N/A
A23: =IF(A22,WORKDAY(A22,1),"") -> #VALUE! | E23: =IF(Table228[[#This Row],[Daily Points]]="",NA(),Table228[[#This Row],[Daily Points]]/Table228[[#This Row],[Daily Points Possible]]) -> #N/A | F23: week avg | G23: =AVERAGEIF(E19:E23,"<>#N/A") -> #DIV/0!
A24: =IF(A23,WORKDAY(A23,1),"") -> #VALUE! | E24: =IF(Table228[[#This Row],[Daily Points]]="",NA(),Table228[[#This Row],[Daily Points]]/Table228[[#This Row],[Daily Points Possible]]) -> #N/A
A25: =IF(A24,WORKDAY(A24,1),"") -> #VALUE! | E25: =IF(Table228[[#This Row],[Daily Points]]="",NA(),Table228[[#This Row],[Daily Points]]/Table228[[#This Row],[Daily Points Possible]]) -> #N/A
A26: =IF(A25,WORKDAY(A25,1),"") -> #VALUE! | E26: =IF(Table228[[#This Row],[Daily Points]]="",NA(),Table228[[#This Row],[Daily Points]]/Table228[[#This Row],[Daily Points Possible]]) -> #N/A
A27: =IF(A26,WORKDAY(A26,1),"") -> #VALUE! | E27: =IF(Table228[[#This Row],[Daily Points]]="",NA(),Table228[[#This Row],[Daily Points]]/Table228[[#This Row],[Daily Points Possible]]) -> #N/A
A28: =IF(A27,WORKDAY(A27,1),"") -> #VALUE! | E28: =IF(Table228[[#This Row],[Daily Points]]="",NA(),Table228[[#This Row],[Daily Points]]/Table228[[#This Row],[Daily Points Possible]]) -> #N/A | F28: week avg | G28: =AVERAGEIF(E24:E28,"<>#N/A") -> #DIV/0!
A29: =IF(A28,WORKDAY(A28,1),"") -> #VALUE! | E29: =IF(Table228[[#This Row],[Daily Points]]="",NA(),Table228[[#This Row],[Daily Points]]/Table228[[#This Row],[Daily Points Possible]]) -> #N/A
A30: =IF(A29,WORKDAY(A29,1),"") -> #VALUE! | E30: =IF(Table228[[#This Row],[Daily Points]]="",NA(),Table228[[#This Row],[Daily Points]]/Table228[[#This Row],[Daily Points Possible]]) -> #N/A
A31: =IF(A30,WORKDAY(A30,1),"") -> #VALUE! | E31: =IF(Table228[[#This Row],[Daily Points]]="",NA(),Table228[[#This Row],[Daily Points]]/Table228[[#This Row],[Daily Points Possible]]) -> #N/A
A32: =IF(A31,WORKDAY(A31,1),"") -> #VALUE! | E32: =IF(Table228[[#This Row],[Daily Points]]="",NA(),Table228[[#This Row],[Daily Points]]/Table228[[#This Row],[Daily Points Possible]]) -> #N/A
A33: =IF(A32,WORKDAY(A32,1),"") -> #VALUE! | E33: =IF(Table228[[#This Row],[Daily Points]]="",NA(),Table228[[#This Row],[Daily Points]]/Table228[[#This Row],[Daily Points Possible]]) -> #N/A | F33: week avg | G33: =AVERAGEIF(E29:E33,"<>#N/A") -> #DIV/0!
A34: =IF(A33,WORKDAY(A33,1),"") -> #VALUE! | E34: =IF(Table228[[#This Row],[Daily Points]]="",NA(),Table228[[#This Row],[Daily Points]]/Table228[[#This Row],[Daily Points Possible]]) -> #N/A
A35: =IF(A34,WORKDAY(A34,1),"") -> #VALUE! | E35: =IF(Table228[[#This Row],[Daily Points]]="",NA(),Table228[[#This Row],[Daily Points]]/Table228[[#This Row],[Daily Points Possible]]) -> #N/A
A36: =IF(A35,WORKDAY(A35,1),"") -> #VALUE! | E36: =IF(Table228[[#This Row],[Daily Points]]="",NA(),Table228[[#This Row],[Daily Points]]/Table228[[#This Row],[Daily Points Possible]]) -> #N/A
A37: =IF(A36,WORKDAY(A36,1),"") -> #VALUE! | E37: =IF(Table228[[#This Row],[Daily Points]]="",NA(),Table228[[#This Row],[Daily Points]]/Table228[[#This Row],[Daily Points Possible]]) -> #N/A
A38: =IF(A37,WORKDAY(A37,1),"") -> #VALUE! | E38: =IF(Table228[[#This Row],[Daily Points]]="",NA(),Table228[[#This Row],[Daily Points]]/Table228[[#This Row],[Daily Points Possible]]) -> #N/A | F38: week avg | G38: =AVERAGEIF(E34:E38,"<>#N/A") -> #DIV/0!
A39: =IF(A38,WORKDAY(A38,1),"") -> #VALUE! | E39: =IF(Table228[[#This Row],[Daily Points]]="",NA(),Table228[[#This Row],[Daily Points]]/Table228[[#This Row],[Daily Points Possible]]) -> #N/A
A40: =IF(A39,WORKDAY(A39,1),"") -> #VALUE! | E40: =IF(Table228[[#This Row],[Daily Points]]="",NA(),Table228[[#This Row],[Daily Points]]/Table228[[#This Row],[Daily Points Possible]]) -> #N/A
A41: =IF(A40,WORKDAY(A40,1),"") -> #VALUE! | E41: =IF(Table228[[#This Row],[Daily Points]]="",NA(),Table228[[#This Row],[Daily Points]]/Table228[[#This Row],[Daily Points Possible]]) -> #N/A
...

Sheet Student7
A2: =StudentInfo!B11 -> 0 | F2: =StudentInfo!V11 -> 0
A3: Date | B3: Notes | C3: Daily Points Possible | D3: Daily Points | E3: Daily Percent | F3: Avg for Last 10 Days | G3: {=AVERAGE(N(OFFSET(E4,LARGE(IF(ISNUMBER(E4:E223),ROW(E4:E223)-ROW(E4)),ROW(1:10)),0)))} -> #NUM!
E4: =IF(Table229[[#This Row],[Daily Points]]="",NA(),Table229[[#This Row],[Daily Points]]/Table229[[#This Row],[Daily Points Possible]]) -> #N/A | P4: Semester 1
A5: =IF(A4,WORKDAY(A4,1),"") | E5: =IF(Table229[[#This Row],[Daily Points]]="",NA(),Table229[[#This Row],[Daily Points]]/Table229[[#This Row],[Daily Points Possible]]) -> #N/A
A6: =IF(A5,WORKDAY(A5,1),"") -> #VALUE! | E6: =IF(Table229[[#This Row],[Daily Points]]="",NA(),Table229[[#This Row],[Daily Points]]/Table229[[#This Row],[Daily Points Possible]]) -> #N/A
A7: =IF(A6,WORKDAY(A6,1),"") -> #VALUE! | E7: =IF(Table229[[#This Row],[Daily Points]]="",NA(),Table229[[#This Row],[Daily Points]]/Table229[[#This Row],[Daily Points Possible]]) -> #N/A
A8: =IF(A7,WORKDAY(A7,1),"") -> #VALUE! | E8: =IF(Table229[[#This Row],[Daily Points]]="",NA(),Table229[[#This Row],[Daily Points]]/Table229[[#This Row],[Daily Points Possible]]) -> #N/A | F8: week avg | G8: =AVERAGEIF(E4:E8,"<>#N/A") -> #DIV/0!
A9: =IF(A8,WORKDAY(A8,1),"") -> #VALUE! | E9: =IF(Table229[[#This Row],[Daily Points]]="",NA(),Table229[[#This Row],[Daily Points]]/Table229[[#This Row],[Daily Points Possible]]) -> #N/A
A10: =IF(A9,WORKDAY(A9,1),"") -> #VALUE! | E10: =IF(Table229[[#This Row],[Daily Points]]="",NA(),Table229[[#This Row],[Daily Points]]/Table229[[#This Row],[Daily Points Possible]]) -> #N/A
A11: =IF(A10,WORKDAY(A10,1),"") -> #VALUE! | E11: =IF(Table229[[#This Row],[Daily Points]]="",NA(),Table229[[#This Row],[Daily Points]]/Table229[[#This Row],[Daily Points Possible]]) -> #N/A
A12: =IF(A11,WORKDAY(A11,1),"") -> #VALUE! | E12: =IF(Table229[[#This Row],[Daily Points]]="",NA(),Table229[[#This Row],[Daily Points]]/Table229[[#This Row],[Daily Points Possible]]) -> #N/A
A13: =IF(A12,WORKDAY(A12,1),"") -> #VALUE! | E13: =IF(Table229[[#This Row],[Daily Points]]="",NA(),Table229[[#This Row],[Daily Points]]/Table229[[#This Row],[Daily Points Possible]]) -> #N/A | F13: week avg | G13: =AVERAGEIF(E9:E13,"<>#N/A") -> #DIV/0!
A14: =IF(A13,WORKDAY(A13,1),"") -> #VALUE! | E14: =IF(Table229[[#This Row],[Daily Points]]="",NA(),Table229[[#This Row],[Daily Points]]/Table229[[#This Row],[Daily Points Possible]]) -> #N/A
A15: =IF(A14,WORKDAY(A14,1),"") -> #VALUE! | E15: =IF(Table229[[#This Row],[Daily Points]]="",NA(),Table229[[#This Row],[Daily Points]]/Table229[[#This Row],[Daily Points Possible]]) -> #N/A
A16: =IF(A15,WORKDAY(A15,1),"") -> #VALUE! | E16: =IF(Table229[[#This Row],[Daily Points]]="",NA(),Table229[[#This Row],[Daily Points]]/Table229[[#This Row],[Daily Points Possible]]) -> #N/A
A17: =IF(A16,WORKDAY(A16,1),"") -> #VALUE! | E17: =IF(Table229[[#This Row],[Daily Points]]="",NA(),Table229[[#This Row],[Daily Points]]/Table229[[#This Row],[Daily Points Possible]]) -> #N/A
A18: =IF(A17,WORKDAY(A17,1),"") -> #VALUE! | E18: =IF(Table229[[#This Row],[Daily Points]]="",NA(),Table229[[#This Row],[Daily Points]]/Table229[[#This Row],[Daily Points Possible]]) -> #N/A | F18: week avg | G18: =AVERAGEIF(E14:E18,"<>#N/A") -> #DIV/0! | P18: Semester 2
A19: =IF(A18,WORKDAY(A18,1),"") -> #VALUE! | E19: =IF(Table229[[#This Row],[Daily Points]]="",NA(),Table229[[#This Row],[Daily Points]]/Table229[[#This Row],[Daily Points Possible]]) -> #N/A
A20: =IF(A19,WORKDAY(A19,1),"") -> #VALUE! | E20: =IF(Table229[[#This Row],[Daily Points]]="",NA(),Table229[[#This Row],[Daily Points]]/Table229[[#This Row],[Daily Points Possible]]) -> #N/A
A21: =IF(A20,WORKDAY(A20,1),"") -> #VALUE! | E21: =IF(Table229[[#This Row],[Daily Points]]="",NA(),Table229[[#This Row],[Daily Points]]/Table229[[#This Row],[Daily Points Possible]]) -> #N/A
A22: =IF(A21,WORKDAY(A21,1),"") -> #VALUE! | E22: =IF(Table229[[#This Row],[Daily Points]]="",NA(),Table229[[#This Row],[Daily Points]]/Table229[[#This Row],[Daily Points Possible]]) -> #N/A
A23: =IF(A22,WORKDAY(A22,1),"") -> #VALUE! | E23: =IF(Table229[[#This Row],[Daily Points]]="",NA(),Table229[[#This Row],[Daily Points]]/Table229[[#This Row],[Daily Points Possible]]) -> #N/A | F23: week avg | G23: =AVERAGEIF(E19:E23,"<>#N/A") -> #DIV/0!
A24: =IF(A23,WORKDAY(A23,1),"") -> #VALUE! | E24: =IF(Table229[[#This Row],[Daily Points]]="",NA(),Table229[[#This Row],[Daily Points]]/Table229[[#This Row],[Daily Points Possible]]) -> #N/A
A25: =IF(A24,WORKDAY(A24,1),"") -> #VALUE! | E25: =IF(Table229[[#This Row],[Daily Points]]="",NA(),Table229[[#This Row],[Daily Points]]/Table229[[#This Row],[Daily Points Possible]]) -> #N/A
A26: =IF(A25,WORKDAY(A25,1),"") -> #VALUE! | E26: =IF(Table229[[#This Row],[Daily Points]]="",NA(),Table229[[#This Row],[Daily Points]]/Table229[[#This Row],[Daily Points Possible]]) -> #N/A
A27: =IF(A26,WORKDAY(A26,1),"") -> #VALUE! | E27: =IF(Table229[[#This Row],[Daily Points]]="",NA(),Table229[[#This Row],[Daily Points]]/Table229[[#This Row],[Daily Points Possible]]) -> #N/A
A28: =IF(A27,WORKDAY(A27,1),"") -> #VALUE! | E28: =IF(Table229[[#This Row],[Daily Points]]="",NA(),Table229[[#This Row],[Daily Points]]/Table229[[#This Row],[Daily Points Possible]]) -> #N/A | F28: week avg | G28: =AVERAGEIF(E24:E28,"<>#N/A") -> #DIV/0!
A29: =IF(A28,WORKDAY(A28,1),"") -> #VALUE! | E29: =IF(Table229[[#This Row],[Daily Points]]="",NA(),Table229[[#This Row],[Daily Points]]/Table229[[#This Row],[Daily Points Possible]]) -> #N/A
A30: =IF(A29,WORKDAY(A29,1),"") -> #VALUE! | E30: =IF(Table229[[#This Row],[Daily Points]]="",NA(),Table229[[#This Row],[Daily Points]]/Table229[[#This Row],[Daily Points Possible]]) -> #N/A
A31: =IF(A30,WORKDAY(A30,1),"") -> #VALUE! | E31: =IF(Table229[[#This Row],[Daily Points]]="",NA(),Table229[[#This Row],[Daily Points]]/Table229[[#This Row],[Daily Points Possible]]) -> #N/A
A32: =IF(A31,WORKDAY(A31,1),"") -> #VALUE! | E32: =IF(Table229[[#This Row],[Daily Points]]="",NA(),Table229[[#This Row],[Daily Points]]/Table229[[#This Row],[Daily Points Possible]]) -> #N/A
A33: =IF(A32,WORKDAY(A32,1),"") -> #VALUE! | E33: =IF(Table229[[#This Row],[Daily Points]]="",NA(),Table229[[#This Row],[Daily Points]]/Table229[[#This Row],[Daily Points Possible]]) -> #N/A | F33: week avg | G33: =AVERAGEIF(E29:E33,"<>#N/A") -> #DIV/0!
A34: =IF(A33,WORKDAY(A33,1),"") -> #VALUE! | E34: =IF(Table229[[#This Row],[Daily Points]]="",NA(),Table229[[#This Row],[Daily Points]]/Table229[[#This Row],[Daily Points Possible]]) -> #N/A
A35: =IF(A34,WORKDAY(A34,1),"") -> #VALUE! | E35: =IF(Table229[[#This Row],[Daily Points]]="",NA(),Table229[[#This Row],[Daily Points]]/Table229[[#This Row],[Daily Points Possible]]) -> #N/A
A36: =IF(A35,WORKDAY(A35,1),"") -> #VALUE! | E36: =IF(Table229[[#This Row],[Daily Points]]="",NA(),Table229[[#This Row],[Daily Points]]/Table229[[#This Row],[Daily Points Possible]]) -> #N/A
A37: =IF(A36,WORKDAY(A36,1),"") -> #VALUE! | E37: =IF(Table229[[#This Row],[Daily Points]]="",NA(),Table229[[#This Row],[Daily Points]]/Table229[[#This Row],[Daily Points Possible]]) -> #N/A
A38: =IF(A37,WORKDAY(A37,1),"") -> #VALUE! | E38: =IF(Table229[[#This Row],[Daily Points]]="",NA(),Table229[[#This Row],[Daily Points]]/Table229[[#This Row],[Daily Points Possible]]) -> #N/A | F38: week avg | G38: =AVERAGEIF(E34:E38,"<>#N/A") -> #DIV/0!
A39: =IF(A38,WORKDAY(A38,1),"") -> #VALUE! | E39: =IF(Table229[[#This Row],[Daily Points]]="",NA(),Table229[[#This Row],[Daily Points]]/Table229[[#This Row],[Daily Points Possible]]) -> #N/A
A40: =IF(A39,WORKDAY(A39,1),"") -> #VALUE! | E40: =IF(Table229[[#This Row],[Daily Points]]="",NA(),Table229[[#This Row],[Daily Points]]/Table229[[#This Row],[Daily Points Possible]]) -> #N/A
A41: =IF(A40,WORKDAY(A40,1),"") -> #VALUE! | E41: =IF(Table229[[#This Row],[Daily Points]]="",NA(),Table229[[#This Row],[Daily Points]]/Table229[[#This Row],[Daily Points Possible]]) -> #N/A
...

Sheet Student8
A2: =StudentInfo!B12 -> 0 | F2: =StudentInfo!V12 -> 0
A3: Date | B3: Notes | C3: Daily Points Possible | D3: Daily Points | E3: Daily Percent | F3: Avg for Last 10 Days | G3: {=AVERAGE(N(OFFSET(E4,LARGE(IF(ISNUMBER(E4:E223),ROW(E4:E223)-ROW(E4)),ROW(1:10)),0)))} -> #NUM! | Q3: Semester 1
E4: =IF(Table2210[[#This Row],[Daily Points]]="",NA(),Table2210[[#This Row],[Daily Points]]/Table2210[[#This Row],[Daily Points Possible]]) -> #N/A
A5: =IF(A4,WORKDAY(A4,1),"") | E5: =IF(Table2210[[#This Row],[Daily Points]]="",NA(),Table2210[[#This Row],[Daily Points]]/Table2210[[#This Row],[Daily Points Possible]]) -> #N/A
A6: =IF(A5,WORKDAY(A5,1),"") -> #VALUE! | E6: =IF(Table2210[[#This Row],[Daily Points]]="",NA(),Table2210[[#This Row],[Daily Points]]/Table2210[[#This Row],[Daily Points Possible]]) -> #N/A
A7: =IF(A6,WORKDAY(A6,1),"") -> #VALUE! | E7: =IF(Table2210[[#This Row],[Daily Points]]="",NA(),Table2210[[#This Row],[Daily Points]]/Table2210[[#This Row],[Daily Points Possible]]) -> #N/A
A8: =IF(A7,WORKDAY(A7,1),"") -> #VALUE! | E8: =IF(Table2210[[#This Row],[Daily Points]]="",NA(),Table2210[[#This Row],[Daily Points]]/Table2210[[#This Row],[Daily Points Possible]]) -> #N/A | F8: week avg | G8: =AVERAGEIF(E4:E8,"<>#N/A") -> #DIV/0!
A9: =IF(A8,WORKDAY(A8,1),"") -> #VALUE! | E9: =IF(Table2210[[#This Row],[Daily Points]]="",NA(),Table2210[[#This Row],[Daily Points]]/Table2210[[#This Row],[Daily Points Possible]]) -> #N/A
A10: =IF(A9,WORKDAY(A9,1),"") -> #VALUE! | E10: =IF(Table2210[[#This Row],[Daily Points]]="",NA(),Table2210[[#This Row],[Daily Points]]/Table2210[[#This Row],[Daily Points Possible]]) -> #N/A
A11: =IF(A10,WORKDAY(A10,1),"") -> #VALUE! | E11: =IF(Table2210[[#This Row],[Daily Points]]="",NA(),Table2210[[#This Row],[Daily Points]]/Table2210[[#This Row],[Daily Points Possible]]) -> #N/A
